BEGIN:VCALENDAR
VERSION:1.0
PRODID:-//Microsoft Corporation//Outlook 9.0 MIMEDIR//EN
BEGIN:VEVENT
DTSTART;VALUE=DATE-TIME:20260423T093000
DTEND;VALUE=DATE-TIME:
SUMMARY:BYWAYS
DESCRIPTION:After the raging success of their initial performance Ben Marston, Chris Pound and Nick McBride return with a series of monthly concerts.
LOCATION:
END:VEVENT
END:VCALENDAR

