BEGIN:VCALENDAR
VERSION:1.0
PRODID:-//Microsoft Corporation//Outlook 9.0 MIMEDIR//EN
BEGIN:VEVENT
DTSTART;VALUE=DATE-TIME:20260529T093000
DTEND;VALUE=DATE-TIME:
SUMMARY:DAMIAN WRIGHT flamenco guitar & GARY DALEY piano accordion
DESCRIPTION:An enchanting combination of instruments and musical flavours from flamenco, jazz to classical, played by two of Australia’s most respected performers
LOCATION:
END:VEVENT
END:VCALENDAR

