BEGIN:VCALENDAR
VERSION:1.0
PRODID:-//Microsoft Corporation//Outlook 9.0 MIMEDIR//EN
BEGIN:VEVENT
DTSTART;VALUE=DATE-TIME:20260308T090000
DTEND;VALUE=DATE-TIME:
SUMMARY:Pat Powell
DESCRIPTION:with Damien Slingsby, Nick Hoorweg and Col Hoorweg
LOCATION:
END:VEVENT
END:VCALENDAR

