BEGIN:VCALENDAR
VERSION:1.0
PRODID:-//Microsoft Corporation//Outlook 9.0 MIMEDIR//EN
BEGIN:VEVENT
DTSTART;VALUE=DATE-TIME:20260208T040000
DTEND;VALUE=DATE-TIME:
SUMMARY:Joe Oppenheimer
DESCRIPTION:with Jeff Thompson and Aya-Rosa
LOCATION:
END:VEVENT
END:VCALENDAR

