BEGIN:VCALENDAR
VERSION:1.0
PRODID:-//Microsoft Corporation//Outlook 9.0 MIMEDIR//EN
BEGIN:VEVENT
DTSTART;VALUE=DATE-TIME:20260213T090000
DTEND;VALUE=DATE-TIME:
SUMMARY:Enda Kenny
DESCRIPTION:"The finest Irish songwriter living overseas" - Colum Sands
LOCATION:
END:VEVENT
END:VCALENDAR

