BEGIN:VCALENDAR
VERSION:1.0
PRODID:-//Microsoft Corporation//Outlook 9.0 MIMEDIR//EN
BEGIN:VEVENT
DTSTART;VALUE=DATE-TIME:20260207T110000
DTEND;VALUE=DATE-TIME:
SUMMARY:Afro Moses
DESCRIPTION:+Big Surprise Guest Super Stars.
To raise money for Afro Moses's Village Teenage Brassband boys & girls.
LOCATION:
END:VEVENT
END:VCALENDAR

