BEGIN:VCALENDAR
VERSION:1.0
PRODID:-//Microsoft Corporation//Outlook 9.0 MIMEDIR//EN
BEGIN:VEVENT
DTSTART;VALUE=DATE-TIME:20251129T080000
DTEND;VALUE=DATE-TIME:
SUMMARY:Daisy Chain and Coolibah Coolective double-header
DESCRIPTION:Canberra indie-folk double header - both bands deliver heartfelt original story-telling indie-folk songs with a modern, foot-tapping twist!
LOCATION:
END:VEVENT
END:VCALENDAR

