BEGIN:VCALENDAR
VERSION:1.0
PRODID:-//Microsoft Corporation//Outlook 9.0 MIMEDIR//EN
BEGIN:VEVENT
DTSTART;VALUE=DATE-TIME:20250826T090000
DTEND;VALUE=DATE-TIME:
SUMMARY:John Mackey Project
DESCRIPTION:A new project by Canberra based saxophonist John Mackey, sees the bringing together of some of Australia's leading musicians.
LOCATION:
END:VEVENT
END:VCALENDAR

