BEGIN:VCALENDAR
VERSION:1.0
PRODID:-//Microsoft Corporation//Outlook 9.0 MIMEDIR//EN
BEGIN:VEVENT
DTSTART;VALUE=DATE-TIME:20250822T090000
DTEND;VALUE=DATE-TIME:
SUMMARY:The Internet Was Busy
DESCRIPTION:Can you hear that? The internet sure is one hell of a noisy place these days. Where can we go to catch our breath and reconnect? Smith's Alternative at 7pm on Friday 22nd of August.
LOCATION:
END:VEVENT
END:VCALENDAR

