BEGIN:VCALENDAR
VERSION:1.0
PRODID:-//Microsoft Corporation//Outlook 9.0 MIMEDIR//EN
BEGIN:VEVENT
DTSTART;VALUE=DATE-TIME:20250824T060000
DTEND;VALUE=DATE-TIME:
SUMMARY:Mal Webb and Kylie Morrigan
DESCRIPTION:
LOCATION:
END:VEVENT
END:VCALENDAR

