BEGIN:VCALENDAR
VERSION:1.0
PRODID:-//Microsoft Corporation//Outlook 9.0 MIMEDIR//EN
BEGIN:VEVENT
DTSTART;VALUE=DATE-TIME:20250510T070000
DTEND;VALUE=DATE-TIME:
SUMMARY:The NOW Show
DESCRIPTION:Smith's Cabaret Cabal presents Pablo Latona in The NOW Show - A variety show hosted by a drawing that has come to life and needs your help to colour it in and learn about the world.

LOCATION:
END:VEVENT
END:VCALENDAR

