BEGIN:VCALENDAR
VERSION:1.0
PRODID:-//Microsoft Corporation//Outlook 9.0 MIMEDIR//EN
BEGIN:VEVENT
DTSTART;VALUE=DATE-TIME:20241222T080000
DTEND;VALUE=DATE-TIME:
SUMMARY:An Anti Xmas Celebration
DESCRIPTION:featuring:
Lulu and the Tantrums and
Aquellex
LOCATION:
END:VEVENT
END:VCALENDAR

