BEGIN:VCALENDAR
VERSION:1.0
PRODID:-//Microsoft Corporation//Outlook 9.0 MIMEDIR//EN
BEGIN:VEVENT
DTSTART;VALUE=DATE-TIME:20241208T020000
DTEND;VALUE=DATE-TIME:
SUMMARY:Pachanga
DESCRIPTION:Follow your ears + enjoy this outdoor SUMMER SOUNDS street party featuring LATIN + SKA + AFROBEAT + REGGAE vibes from 3 local bands + BBQ and market!
LOCATION:
END:VEVENT
END:VCALENDAR

