BEGIN:VCALENDAR
VERSION:1.0
PRODID:-//Microsoft Corporation//Outlook 9.0 MIMEDIR//EN
BEGIN:VEVENT
DTSTART;VALUE=DATE-TIME:20241003T093000
DTEND;VALUE=DATE-TIME:
SUMMARY:Kim Yang
DESCRIPTION:Fresh off the Cambridge folk festival and Edinburgh Fringe (UK), Taiwanese-Australian songstress Kim Yang returns to Canberra for an intimate gig with just her voice and a guitar.
LOCATION:
END:VEVENT
END:VCALENDAR

