BEGIN:VCALENDAR
VERSION:1.0
PRODID:-//Microsoft Corporation//Outlook 9.0 MIMEDIR//EN
BEGIN:VEVENT
DTSTART;VALUE=DATE-TIME:20241124T060000
DTEND;VALUE=DATE-TIME:
SUMMARY:Benedict Moleta
DESCRIPTION:Western Australian singer-songwriter launches his ninth album 'Illuminated Numbers' with supports Abi Main and Nicole Smede
LOCATION:
END:VEVENT
END:VCALENDAR

