BEGIN:VCALENDAR
VERSION:1.0
PRODID:-//Microsoft Corporation//Outlook 9.0 MIMEDIR//EN
BEGIN:VEVENT
DTSTART;VALUE=DATE-TIME:20241019T080000
DTEND;VALUE=DATE-TIME:
SUMMARY:Mixed Bill Madness
DESCRIPTION:Mixed Bill Madness are excited to be back for our 6th mixed bill show with:
VELVET PARADE, 
VOODOO ACID SPACE KINGS &
KRAMPUS
LOCATION:
END:VEVENT
END:VCALENDAR

