BEGIN:VCALENDAR
VERSION:1.0
PRODID:-//Microsoft Corporation//Outlook 9.0 MIMEDIR//EN
BEGIN:VEVENT
DTSTART;VALUE=DATE-TIME:20241130T040000
DTEND;VALUE=DATE-TIME:
SUMMARY:Barry Morgan All Key'd Up
DESCRIPTION:Barry Morgan is back - and he is all key'd up!
LOCATION:
END:VEVENT
END:VCALENDAR

