BEGIN:VCALENDAR
VERSION:1.0
PRODID:-//Microsoft Corporation//Outlook 9.0 MIMEDIR//EN
BEGIN:VEVENT
DTSTART;VALUE=DATE-TIME:20240823T113000
DTEND;VALUE=DATE-TIME:
SUMMARY:Soiree of Sin
DESCRIPTION:Come one, come all for a bloody good time! Canberra's home of horror cabaret returns in 2024 bringing you a devilish and delightful show that will have all the blood rushing to the right places!
LOCATION:
END:VEVENT
END:VCALENDAR

