BEGIN:VCALENDAR
VERSION:1.0
PRODID:-//Microsoft Corporation//Outlook 9.0 MIMEDIR//EN
BEGIN:VEVENT
DTSTART;VALUE=DATE-TIME:20241121T090000
DTEND;VALUE=DATE-TIME:
SUMMARY:Elana Stone
DESCRIPTION:Smith's welcomes All Our Exes Live in Texas' Elana Stone to town for the launch of her new album 'Married to the Sound'
LOCATION:
END:VEVENT
END:VCALENDAR

