BEGIN:VCALENDAR
VERSION:1.0
PRODID:-//Microsoft Corporation//Outlook 9.0 MIMEDIR//EN
BEGIN:VEVENT
DTSTART;VALUE=DATE-TIME:20240725T100000
DTEND;VALUE=DATE-TIME:
SUMMARY:Good Ramen
DESCRIPTION:With At Last: Broadcast & Buzzcuts
LOCATION:
END:VEVENT
END:VCALENDAR

