BEGIN:VCALENDAR
VERSION:1.0
PRODID:-//Microsoft Corporation//Outlook 9.0 MIMEDIR//EN
BEGIN:VEVENT
DTSTART;VALUE=DATE-TIME:20240630T090000
DTEND;VALUE=DATE-TIME:
SUMMARY:Folk, Punk, Whatevs
DESCRIPTION:Three of Smith's favourite musical acts, loosely alignerd in the genres of Folk, Folk-Punk and/or punk.
LOCATION:
END:VEVENT
END:VCALENDAR

