BEGIN:VCALENDAR
VERSION:1.0
PRODID:-//Microsoft Corporation//Outlook 9.0 MIMEDIR//EN
BEGIN:VEVENT
DTSTART;VALUE=DATE-TIME:20240830T083000
DTEND;VALUE=DATE-TIME:
SUMMARY:TAXIM TRIO
DESCRIPTION:A nostalgic experience of greek music.
LOCATION:
END:VEVENT
END:VCALENDAR

