BEGIN:VCALENDAR
VERSION:1.0
PRODID:-//Microsoft Corporation//Outlook 9.0 MIMEDIR//EN
BEGIN:VEVENT
DTSTART;VALUE=DATE-TIME:20240604T060000
DTEND;VALUE=DATE-TIME:
SUMMARY:A World of Rhythm Workshop
DESCRIPTION:
LOCATION:
END:VEVENT
END:VCALENDAR

