BEGIN:VCALENDAR
VERSION:1.0
PRODID:-//Microsoft Corporation//Outlook 9.0 MIMEDIR//EN
BEGIN:VEVENT
DTSTART;VALUE=DATE-TIME:20240604T090000
DTEND;VALUE=DATE-TIME:
SUMMARY:The Whistleblowers
DESCRIPTION:A collective of fine improvisers/composers from Melbourne, Canberra and Sydney, back at Smith's Alternative.
LOCATION:
END:VEVENT
END:VCALENDAR

