BEGIN:VCALENDAR
VERSION:1.0
PRODID:-//Microsoft Corporation//Outlook 9.0 MIMEDIR//EN
BEGIN:VEVENT
DTSTART;VALUE=DATE-TIME:20240622T080000
DTEND;VALUE=DATE-TIME:
SUMMARY:Ben Drysdale
DESCRIPTION:Award-winning Canberra Indie Folk Artist Ben Drysdale Announces Highly Anticipated Sophomore Single 'Listen Now'.
LOCATION:
END:VEVENT
END:VCALENDAR

