BEGIN:VCALENDAR
VERSION:1.0
PRODID:-//Microsoft Corporation//Outlook 9.0 MIMEDIR//EN
BEGIN:VEVENT
DTSTART;VALUE=DATE-TIME:20240427T110000
DTEND;VALUE=DATE-TIME:
SUMMARY:OFF THE TOP NO WRITTENS
DESCRIPTION:NewBorn Noise presents OFF THE TOP NO WRITTENS FREESTYLE RAP COMPETITION 2024 at Smith's Alternative, Canberra
LOCATION:
END:VEVENT
END:VCALENDAR

