BEGIN:VCALENDAR
VERSION:1.0
PRODID:-//Microsoft Corporation//Outlook 9.0 MIMEDIR//EN
BEGIN:VEVENT
DTSTART;VALUE=DATE-TIME:20240330T050000
DTEND;VALUE=DATE-TIME:
SUMMARY:Andrea Kirwin
DESCRIPTION:Andrea Kirwin (previously of the Andi and George Band) is returning to Canberra to perform an intimate solo show at Smith's
LOCATION:
END:VEVENT
END:VCALENDAR

