BEGIN:VCALENDAR
VERSION:1.0
PRODID:-//Microsoft Corporation//Outlook 9.0 MIMEDIR//EN
BEGIN:VEVENT
DTSTART;VALUE=DATE-TIME:20241011T100000
DTEND;VALUE=DATE-TIME:
SUMMARY:The Pigs
DESCRIPTION:The Pigs in concert at Smiths Alternative on their Epic 20-Year Anniversary Tour "The  Pigs Jubilee!"
LOCATION:
END:VEVENT
END:VCALENDAR

