BEGIN:VCALENDAR
VERSION:1.0
PRODID:-//Microsoft Corporation//Outlook 9.0 MIMEDIR//EN
BEGIN:VEVENT
DTSTART;VALUE=DATE-TIME:20240317T090000
DTEND;VALUE=DATE-TIME:
SUMMARY:Key Grip
DESCRIPTION:Blues with Soul
LOCATION:
END:VEVENT
END:VCALENDAR

