BEGIN:VCALENDAR
VERSION:1.0
PRODID:-//Microsoft Corporation//Outlook 9.0 MIMEDIR//EN
BEGIN:VEVENT
DTSTART;VALUE=DATE-TIME:20230923T050000
DTEND;VALUE=DATE-TIME:
SUMMARY:Zines + Bands 2
DESCRIPTION:Following the success of Zines + Bands, the Sticky Institute crew returns to Canberra with tonnes of zines, Made Austria and The Secret Migraines to do it again!!! They'll be joined once more by locals petre out & the tyreslashers.
LOCATION:
END:VEVENT
END:VCALENDAR

