BEGIN:VCALENDAR
VERSION:1.0
PRODID:-//Microsoft Corporation//Outlook 9.0 MIMEDIR//EN
BEGIN:VEVENT
DTSTART;VALUE=DATE-TIME:20230627T090000
DTEND;VALUE=DATE-TIME:
SUMMARY:Harry Tinney
DESCRIPTION:Harry hits the Hume to play in his home town with buddies Nick and Brendan.
LOCATION:
END:VEVENT
END:VCALENDAR

