BEGIN:VCALENDAR
VERSION:1.0
PRODID:-//Microsoft Corporation//Outlook 9.0 MIMEDIR//EN
BEGIN:VEVENT
DTSTART;VALUE=DATE-TIME:20230609T113000
DTEND;VALUE=DATE-TIME:
SUMMARY:Drag Cabaret
DESCRIPTION:Get fired up on a cold night with our cast of smouldering hotties!
LOCATION:
END:VEVENT
END:VCALENDAR

