BEGIN:VCALENDAR
VERSION:1.0
PRODID:-//Microsoft Corporation//Outlook 9.0 MIMEDIR//EN
BEGIN:VEVENT
DTSTART;VALUE=DATE-TIME:20231103T090000
DTEND;VALUE=DATE-TIME:
SUMMARY:Kristin Hersh - SOLD OUT
DESCRIPTION:Troubadour and Smith's present the inimitable Kristin Hersh, a musical genius, a fearless rock innovator, touring Australia in 2023 with her 20th album, Clear Pond Road.
LOCATION:
END:VEVENT
END:VCALENDAR

