BEGIN:VCALENDAR
VERSION:1.0
PRODID:-//Microsoft Corporation//Outlook 9.0 MIMEDIR//EN
BEGIN:VEVENT
DTSTART;VALUE=DATE-TIME:20230121T080000
DTEND;VALUE=DATE-TIME:
SUMMARY:Zines and Bands
DESCRIPTION:An evening of zines and bands with performances by Made Austria (Melb), petre out & the tyreslashers and The Secret Migraines (Melb) and zine tables by the Sticky Institute and Small Zine Volcano.
LOCATION:
END:VEVENT
END:VCALENDAR

