BEGIN:VCALENDAR
VERSION:1.0
PRODID:-//Microsoft Corporation//Outlook 9.0 MIMEDIR//EN
BEGIN:VEVENT
DTSTART;VALUE=DATE-TIME:20221126T060000
DTEND;VALUE=DATE-TIME:
SUMMARY:COLE'S OPERA SALON
DESCRIPTION:Be transported in Cole's Opera Salon to another world where beautiful music accompanies the battles  between love and fate.
LOCATION:
END:VEVENT
END:VCALENDAR

