BEGIN:VCALENDAR
VERSION:1.0
PRODID:-//Microsoft Corporation//Outlook 9.0 MIMEDIR//EN
BEGIN:VEVENT
DTSTART;VALUE=DATE-TIME:20221028T113000
DTEND;VALUE=DATE-TIME:
SUMMARY:Monnone Alone
DESCRIPTION:Monnone Alone return to Canberra for a special show at Smith's Alternative on Friday, October 28 with local champs Kilroy and Lily Morris.
LOCATION:
END:VEVENT
END:VCALENDAR

