BEGIN:VCALENDAR
VERSION:1.0
PRODID:-//Microsoft Corporation//Outlook 9.0 MIMEDIR//EN
BEGIN:VEVENT
DTSTART;VALUE=DATE-TIME:20220929T090000
DTEND;VALUE=DATE-TIME:
SUMMARY:Charm of Finches
DESCRIPTION:Melbourne sister duo Charm of Finches (aka Mabel and Ivy Windred-Wornes) make haunted tunes about love, grief and whispering trees; indie folk awash with seamless blood harmonies traversing melancholy and wonder in equal measure.
LOCATION:
END:VEVENT
END:VCALENDAR

