BEGIN:VCALENDAR
VERSION:1.0
PRODID:-//Microsoft Corporation//Outlook 9.0 MIMEDIR//EN
BEGIN:VEVENT
DTSTART;VALUE=DATE-TIME:20220430T090000
DTEND;VALUE=DATE-TIME:
SUMMARY:Daniel Muggleton
DESCRIPTION:One of Australia's most exciting stand-up comedians is in Canberra with a brand new show and the same red tracksuit.
LOCATION:
END:VEVENT
END:VCALENDAR

