BEGIN:VCALENDAR
VERSION:1.0
PRODID:-//Microsoft Corporation//Outlook 9.0 MIMEDIR//EN
BEGIN:VEVENT
DTSTART;VALUE=DATE-TIME:20211216T080000
DTEND;VALUE=DATE-TIME:
SUMMARY:Fundamentals
DESCRIPTION:It's beginning to feel a lot like Christmas.
LOCATION:
END:VEVENT
END:VCALENDAR

