BEGIN:VCALENDAR
VERSION:1.0
PRODID:-//Microsoft Corporation//Outlook 9.0 MIMEDIR//EN
BEGIN:VEVENT
DTSTART;VALUE=DATE-TIME:20210716T100000
DTEND;VALUE=DATE-TIME:
SUMMARY:Growing Pains - SOLD OUT
DESCRIPTION:A chronology through the lives of Sarah Ison and Chelsea Heaney
LOCATION:
END:VEVENT
END:VCALENDAR

