BEGIN:VCALENDAR
VERSION:1.0
PRODID:-//Microsoft Corporation//Outlook 9.0 MIMEDIR//EN
BEGIN:VEVENT
DTSTART;VALUE=DATE-TIME:20210227T050000
DTEND;VALUE=DATE-TIME:
SUMMARY:Snake Oil Preachers
DESCRIPTION:Dubbed "country punk for city slackers", Snake Oil Preachers rock the cannon of country classics with their own unique hollering hell-raising hedonism.
LOCATION:
END:VEVENT
END:VCALENDAR

