BEGIN:VCALENDAR
VERSION:1.0
PRODID:-//Microsoft Corporation//Outlook 9.0 MIMEDIR//EN
BEGIN:VEVENT
DTSTART;VALUE=DATE-TIME:20200917T090000
DTEND;VALUE=DATE-TIME:
SUMMARY:FUNdamentals at Smith's
DESCRIPTION:Following two sell out shows in August, FUNdamentals is back on the 17th of September. Make your way to Smith's Alternative and see some Canberra' best comics.
LOCATION:
END:VEVENT
END:VCALENDAR

