BEGIN:VCALENDAR
VERSION:1.0
PRODID:-//Microsoft Corporation//Outlook 9.0 MIMEDIR//EN
BEGIN:VEVENT
DTSTART;VALUE=DATE-TIME:20200228T113000
DTEND;VALUE=DATE-TIME:
SUMMARY:Kim Churchill - SOLD OUT
DESCRIPTION:Kim Churchill is proud to present a new tour - The Bright Night Sessions.
LOCATION:
END:VEVENT
END:VCALENDAR

