BEGIN:VCALENDAR
VERSION:1.0
PRODID:-//Microsoft Corporation//Outlook 9.0 MIMEDIR//EN
BEGIN:VEVENT
DTSTART;VALUE=DATE-TIME:20191025T090000
DTEND;VALUE=DATE-TIME:
SUMMARY:Rufino and the Coconuts
DESCRIPTION:A tropical musical explosion is set to go off Friday October 25 as Rufino and the Coconuts launch their debut album Centroturist taking audiences on a wild island-jungle quest
LOCATION:
END:VEVENT
END:VCALENDAR

