BEGIN:VCALENDAR
VERSION:1.0
PRODID:-//Microsoft Corporation//Outlook 9.0 MIMEDIR//EN
BEGIN:VEVENT
DTSTART;VALUE=DATE-TIME:20190725T090000
DTEND;VALUE=DATE-TIME:
SUMMARY:N.R Trio
DESCRIPTION:N.R. Trio explores the concept of spontaneous re-harmonisation, expanding classic jazz swingers and modern compositions alike into something unique. Their last time playing in Canberra as part of their National Tour! Supported by Canberra Milk Kids.
LOCATION:
END:VEVENT
END:VCALENDAR

