BEGIN:VCALENDAR
VERSION:1.0
PRODID:-//Microsoft Corporation//Outlook 9.0 MIMEDIR//EN
BEGIN:VEVENT
DTSTART;VALUE=DATE-TIME:20190701T113000
DTEND;VALUE=DATE-TIME:
SUMMARY:Lulu and the Tantrums
DESCRIPTION:Lulu and the Tantrums, Epic Side Boob and Sam King
LOCATION:
END:VEVENT
END:VCALENDAR

