BEGIN:VCALENDAR
VERSION:1.0
PRODID:-//Microsoft Corporation//Outlook 9.0 MIMEDIR//EN
BEGIN:VEVENT
DTSTART;VALUE=DATE-TIME:20190523T090000
DTEND;VALUE=DATE-TIME:
SUMMARY:Vendulka
DESCRIPTION:After months of work, come hear Vendulka's new single 'Good Words' along with Viktor Rufus, Josh Richens and Joel Davy joining her, plus special guests.
LOCATION:
END:VEVENT
END:VCALENDAR

