BEGIN:VCALENDAR
VERSION:1.0
PRODID:-//Microsoft Corporation//Outlook 9.0 MIMEDIR//EN
BEGIN:VEVENT
DTSTART;VALUE=DATE-TIME:20190301T093000
DTEND;VALUE=DATE-TIME:
SUMMARY:Switched On: Beginnings and Endings
DESCRIPTION:Canberra's premiere improvised theatre troupe gives you a fresh take on comedy at Smith's Alternative. Watch Lightbulb Improv create a comedy variety show right before your eyes.
LOCATION:
END:VEVENT
END:VCALENDAR

