BEGIN:VCALENDAR
VERSION:1.0
PRODID:-//Microsoft Corporation//Outlook 9.0 MIMEDIR//EN
BEGIN:VEVENT
DTSTART;VALUE=DATE-TIME:20190309T050000
DTEND;VALUE=DATE-TIME:
SUMMARY:Muddy Wolfe EP Launch
DESCRIPTION:Muddy Wolfe launch their debut EP 'Volume I' with special guests The Chesterfield Band, Powder Blue and their own Jonah Myles.
LOCATION:
END:VEVENT
END:VCALENDAR

