BEGIN:VCALENDAR
VERSION:1.0
PRODID:-//Microsoft Corporation//Outlook 9.0 MIMEDIR//EN
BEGIN:VEVENT
DTSTART;VALUE=DATE-TIME:20151122T080000
DTEND;VALUE=DATE-TIME:
SUMMARY:Mick Daley
DESCRIPTION:with Adam Young
LOCATION:
END:VEVENT
END:VCALENDAR

